BEGIN:VCALENDAR
VERSION:2.0
PRODID:-//ISPE BR - ECPv5.12.2//NONSGML v1.0//EN
CALSCALE:GREGORIAN
METHOD:PUBLISH
X-WR-CALNAME:ISPE BR
X-ORIGINAL-URL:https://ispe.org.br
X-WR-CALDESC:Events for ISPE BR
REFRESH-INTERVAL;VALUE=DURATION:PT1H
X-Robots-Tag:noindex
X-PUBLISHED-TTL:PT1H
BEGIN:VTIMEZONE
TZID:America/Sao_Paulo
BEGIN:STANDARD
TZOFFSETFROM:-0300
TZOFFSETTO:-0300
TZNAME:-03
DTSTART:20230101T000000
END:STANDARD
END:VTIMEZONE
BEGIN:VEVENT
DTSTART;TZID=America/Sao_Paulo:20230512T090000
DTEND;TZID=America/Sao_Paulo:20230512T120000
DTSTAMP:20260422T214612
CREATED:20230417T191102Z
LAST-MODIFIED:20230418T150755Z
UID:1797-1683882000-1683892800@ispe.org.br
SUMMARY:Webinar Gratuito: "Validação de Sistemas Computadorizados e Integridade de Dados/Data Integrity (ID/DI)"
DESCRIPTION:OBJETIVO:\nTrazer o Tema de Validação de Sistemas Computadorizados e Integridade de Dados a luz do Guia 33 Da ANVISA de Abril de 2020 (Guia de Validação de Sistemas Computadorizados)\, RDC 658 e Instrução Normativa 134 de 2022\, e o Novo Guia de Perguntas e Respostas de Fevereiro de 2023. \nPÚBLICO-ALVO:\nEmpresas do Segmento de Ciências da Vida/Life Science – Que são reguladas quanto ao Tema de Validação de Sistemas Computadorizados e Integridade de Dados.  \nPROGRAMA: \n1. Conceitos gerais.\n2. Tendência de mercado e uma abordagem sobre o Novo Guia de perguntas e Repostas da ANVISA de Fevereiro de 2023.\n3. Olhar regulatório.  \nPALESTRANTES: \nTatiana Oliveira da Silva (COVISA – SP)\nFarmacêutica\, graduada pela UNICAMP. Especialista em Vigilância Sanitária e Gestão em Saúde pela FIOCRUZ/RJ\, Especialista em Vigilância em Saúde Ambiental pela UFRJ e atualmente cursando especialização em Direito Sanitário pela FIOCRUZ/DF. Diversos cursos na área de Boas Práticas de Fabricação\, destacando BPF Fase II Mercosul\, Virtual cGMP Training Marathon for Vaccine Manufacturing: Sustaining a GMP – Compliant Environment (WHO) e Virtual cGMP Training Marathon for Vaccine Manufacturing (WHO). Possui 12 anos de experiência em Vigilância Sanitária\, atuando na realização de inspeções sanitárias em indústrias farmacêuticas e insumos farmacêuticos ativos nacionais\, participação em inspeções internacionais de IFA compondo a equipe da ANVISA. Atualmente ocupa o cargo de Coordenadora no Núcleo de Vigilância de Medicamentos na COVISA na Prefeitura do Município da Cidade de São Paulo. Palestrante em eventos de Boas Práticas de Fabricação e Boas Práticas Regulatórias em entidades como PDA Chapter Brazil\, ISPE Brasil\, SBCC\, UNIFAR\, Congresso CONIFA e CRF-SP. Membro Fundador do capítulo PDA Brazil. Docente convidada pela Faculdade de Ciências Farmacêuticas – Unicamp e Instituto Racine. \nAndré Goto – AstraZeneca\nFarmacêutico com habilitação em Indústria pela Universidade Estadual de Londrina.\nAtuação na indústria de ciências da vida há 18 anos\, com experiência em validação de sistemas de gerenciamento de informações\, laboratório\, automação\, qualificação de equipamentos e utilidades.\nAtuação em projetos ágeis de validação de sistemas globais nas áreas de Operações\, Comercial e R&D.\nPalestrante na Conferência Internacional de Integridade de Dados do ISPE Brasil em 2017.\nDiretor Executivo do ISPE desde 2019.\nAtualmente Gerente de IT Quality & Compliance na empresa AstraZeneca. \nDiego Miyoshi Kise – AZBIL TELSTAR\nFarmacêutico Generalista – pela Universidade Estadual de Campinas – UNICAMP. Há mais de 10 anos atuando em indústrias do segmento de Life Science (Indústria Farmacêutica\, Cosmética\, Insumos\, Produtos para saúde\, Gases Medicinais\, Saneantes e afins).\nDocente de pós-graduação no Instituto Racine (Engenharia Farmacêutica e Auditoria da Qualidade).\nMembro e Instrutor ISPE.\nPalestrante e Integrante dos Grupos de Trabalho (GTs) SINDUSFARMA.\nAtualmente Gerente Comercial de Consultoria na empresa AZBIL TELSTAR consultoria e engenharia.
URL:https://ispe.org.br/evento/webinar-gratuito-validacao-de-sistemas-computadorizados-e-integridade-de-dados-data-integrity-id-di/
ATTACH;FMTTYPE=image/png:https://ispe.org.br/wp-content/uploads/2023/04/validacao-de-sistemas-ap.png
END:VEVENT
END:VCALENDAR