BEGIN:VCALENDAR
VERSION:2.0
PRODID:-//ISPE BR - ECPv5.12.2//NONSGML v1.0//EN
CALSCALE:GREGORIAN
METHOD:PUBLISH
X-WR-CALNAME:ISPE BR
X-ORIGINAL-URL:https://ispe.org.br
X-WR-CALDESC:Events for ISPE BR
REFRESH-INTERVAL;VALUE=DURATION:PT1H
X-Robots-Tag:noindex
X-PUBLISHED-TTL:PT1H
BEGIN:VTIMEZONE
TZID:America/Sao_Paulo
BEGIN:STANDARD
TZOFFSETFROM:-0300
TZOFFSETTO:-0300
TZNAME:-03
DTSTART:20230101T000000
END:STANDARD
END:VTIMEZONE
BEGIN:VEVENT
DTSTART;TZID=America/Sao_Paulo:20230508T080000
DTEND;TZID=America/Sao_Paulo:20230509T120000
DTSTAMP:20260422T213448
CREATED:20221123T234340Z
LAST-MODIFIED:20221207T162627Z
UID:1546-1683532800-1683633600@ispe.org.br
SUMMARY:Treinamento Online: Entendimento das Etapas para a implementação do processo de adequação da LGPD (Lei Geral de Proteção de Dados)
DESCRIPTION:Carga Horária: 8 horas \nInvestimento:\nAntecipado até 25/03/2023\nAssociado ISPE: R$ 380\,00\nNão sócios: R$ 535\,00 \nSem desconto após 25/03/2023\nAssociado ISPE: R$ 500\,00\nNão sócios: R$ 650\,00 \nEstudantes de Graduação (Sujeito à disponibilidade de vaga): R$ 190\,00 (Necessária documentação comprobatória) \nInspetores Órgãos Reguladores: Cortesia (Necessária documentação comprobatória) \nConteúdo:\nConheça as principais estratégias\, métodos de implementação\, avaliação dos dados sensíveis e relativos à nova Lei Geral de Proteção de Dados\, subsidiadas pelas autoridades regulatórias sobre o tema.\nComo podemos diminuir o risco de exposição dos dados relacionados aos termos da Qualidade de Implantação\, Segurança dos Dados e Integridade da Informação mantendo sua Rastreabilidade:\n    • Etapas de Implantação para a adequação\n    • Gerenciamento dos dados e sua proteção\n    • Segurança em assegurar a titularidade de seus dados pessoais e garantido os direitos fundamentais de liberdade\, de intimidade e de privacidade.\nSerão abordados nesse treinamento: • Dados\, • Segurança de Dados • Etapas para implantação\n• LGPD – Lei Geral de Proteção de Dados • Aplicação da LGPD • Como tratar dados na prática\n• Documentação – O ciclo de vida do documento físico /digital • Papeis e Responsabilidades\n• Análise de risco dos dados (Impacto). \nObjetivos:\nO objetivo é auxiliar profissionais na implementação das etapas\, no tratamento dos dados\, no diagnóstico de maturidade de privacidade para adequação à LGPD\, no diagnóstico de maturidade de segurança para adequação à LGPD\, na Governança em Privacidade.\nA Lei Geral de Proteção de Dados Pessoais (LGPD)\, Lei nº 13.709\, de 14 de agosto de 2018\, dispõe sobre o tratamento de dados pessoais\, inclusive nos meios digitais\, por pessoa natural ou por pessoa jurídica de direito público ou privado\, com o objetivo de proteger os direitos fundamentais de liberdade e de privacidade e o livre desenvolvimento da personalidade da pessoa  natural.\nConforme o art. 5º da LGPD\, dado pessoal é toda informação relacionada a pessoa natural identificada ou identificável. \nPúblico-alvo:\nTreinamento voltado a todos os estudantes\, colaboradores\, fornecedores de serviços\, empresas de quaisquer segmentos que realizam operações envolvendo dados pessoais dos clientes.  \nInstrutora:\nMarcele Guidastre (Quality Compliance)\nPós-graduada em Análise de Sistemas pela Uni Lins (Centro Universitário de Lins)\, e de Gestão da Qualidade em (Validação de Sistema Computadorizados) com 26 anos de experiência\, nas atividades relacionadas\, adquiridos em empresas dos segmentos farmacêutico\, financeiro\, industrial\, entre outras.\n• Auditora em Sistemas de Gestão da Qualidade • Auditoria em Fornecedores •  Especialista em Governança de TI • Especialista em Validação de Sistema Computadorizados • Especialista em Validação de Planilhas Eletrônicas • Especialista em Qualificação de Infraestrutura de TI • Especialista em Quality by Design desde a construção civil\, seguido de processos • Especialista em Comissionamento /Qualificação de Equipamentos • Gerenciamento de projetos para implantação de sistemas • Gestão de Projetos de todos os segmentos • Implementadora da ISO 9001:2015 • Analista de Processos.
URL:https://ispe.org.br/evento/treinamento-online-entendimento-das-etapas-para-a-implementacao-do-processo-de-adequacao-da-lgpd-lei-geral-de-protecao-de-dados-2/
LOCATION:ZOOM – Link será enviado posteriormente
END:VEVENT
END:VCALENDAR