BEGIN:VCALENDAR
VERSION:2.0
PRODID:-//ISPE BR - ECPv5.12.2//NONSGML v1.0//EN
CALSCALE:GREGORIAN
METHOD:PUBLISH
X-WR-CALNAME:ISPE BR
X-ORIGINAL-URL:https://ispe.org.br
X-WR-CALDESC:Events for ISPE BR
REFRESH-INTERVAL;VALUE=DURATION:PT1H
X-Robots-Tag:noindex
X-PUBLISHED-TTL:PT1H
BEGIN:VTIMEZONE
TZID:America/Sao_Paulo
BEGIN:STANDARD
TZOFFSETFROM:-0300
TZOFFSETTO:-0300
TZNAME:-03
DTSTART:20230101T000000
END:STANDARD
END:VTIMEZONE
BEGIN:VEVENT
DTSTART;TZID=America/Sao_Paulo:20230323T090000
DTEND;TZID=America/Sao_Paulo:20230323T110000
DTSTAMP:20260423T031758
CREATED:20230209T143006Z
LAST-MODIFIED:20230308T143243Z
UID:1692-1679562000-1679569200@ispe.org.br
SUMMARY:Webinar Gratuito: "Gestão de Água na Indústria Farmacêutica: ISO 46001:2019 - Sistema de gestão de eficiência hídrica: Certificação inédita da Chiesi como a primeira empresa farmacêutica certificada"
DESCRIPTION:Programação:\n1ª Parte 9h às 9h30min (Daniel Zolezi) – Apresentação da ISO 46001 e seus benefícios\n2ª Parte 9h30min às 10h (Willian Motta) – Explicação da norma (Parco Engenharia)\n3ª Parte 10h às 10h30min (Francisco da Silva Rozante) – Case certificação inédita Chiesi\n4ª Parte 10h30min às 11h (Todos) –  Período para responder perguntas dos participantes \nPalestrantes:\nFrancisco da Silva Rozante\nChiesi Farmacêutica\nGerente de Engenharia e Manutenção \nDaniel Rodrigo Bilharino Zolezi\nParco Engenharia\nConsultor e Auditor ESG\, SGI\, Gestão de Energia\, Gestão Hídrica\, Gestão de Ativos e Gestão de Riscos \nWillian Barbosa Motta\nParco Engenharia\nConsultor e Auditor ESG\, SGI\, Gestão de Energia\, Gestão Hídrica\, Gestão de Ativos e Gestão de Riscos
URL:https://ispe.org.br/evento/webinar-gratuito-iso-460012019-sistema-de-gestao-de-eficiencia-hidrica-certificacao-inedita-da-chiesi-como-a-primeira-empresa-farmaceutica-certificada/
ATTACH;FMTTYPE=image/jpeg:https://ispe.org.br/wp-content/uploads/2023/02/w-ISO-46001-1.jpg
END:VEVENT
END:VCALENDAR