BEGIN:VCALENDAR
VERSION:2.0
PRODID:-//ISPE BR - ECPv5.12.2//NONSGML v1.0//EN
CALSCALE:GREGORIAN
METHOD:PUBLISH
X-WR-CALNAME:ISPE BR
X-ORIGINAL-URL:https://ispe.org.br
X-WR-CALDESC:Events for ISPE BR
REFRESH-INTERVAL;VALUE=DURATION:PT1H
X-Robots-Tag:noindex
X-PUBLISHED-TTL:PT1H
BEGIN:VTIMEZONE
TZID:America/Sao_Paulo
BEGIN:STANDARD
TZOFFSETFROM:-0300
TZOFFSETTO:-0300
TZNAME:-03
DTSTART:20220101T000000
END:STANDARD
END:VTIMEZONE
BEGIN:VEVENT
DTSTART;TZID=America/Sao_Paulo:20220916T100000
DTEND;TZID=America/Sao_Paulo:20220916T120000
DTSTAMP:20260423T145151
CREATED:20220815T133922Z
LAST-MODIFIED:20220817T115255Z
UID:1275-1663322400-1663329600@ispe.org.br
SUMMARY:Webinar Gratuito: Auditoria em Sistemas de Água - Projeto de Engenharia
DESCRIPTION:Conteúdo: \nConhecer a teoria para o correto desenvolvimento de um projeto de águas para a indústria farmacêutica\, com atenção para os seguintes tópicos:– Tipos de Sistemas de Geração de Água Purificada e Água para Injetáveis;– Tipos de anéis (a quente e a frio); – Tipos de sanitização;– Critérios de Cálculo – temperaturas recomendadas\, Número de Reynolds\, velocidade recomendada\, tipo de tubulação\, simultaneidade;– Principais requerimentos para as Auditorias;– Problemas de Instalação e suas soluções. \nPúblico Alvo: \nEstudantes e profissionais das áreas de engenharia\, manutenção\, qualificação e validação. \nPalestrante:  \nCristina Corsi (Azbil Telstar) \nEngenheira Química formada pela Universidade Mackenzie em dezembro de 1990;– 31 anos de experiência na área de projetos na disciplina de Processo e Utilidades (Clean e Black Utilities);– 15 anos de experiência em coordenação e desenvolvimento de projetos da Área Farmacêutica. \nMediadora: \nKesia Pires de Oliveira (Azbil Telstar)
URL:https://ispe.org.br/evento/webinar-gratuito-auditoria-em-sistemas-de-agua-projeto-de-engenharia/
ATTACH;FMTTYPE=image/jpeg:https://ispe.org.br/wp-content/uploads/2022/08/w-telstar-auditoria-em-sistema-de-agua.jpg
END:VEVENT
END:VCALENDAR