BEGIN:VCALENDAR
VERSION:2.0
PRODID:-//ISPE BR - ECPv5.12.2//NONSGML v1.0//EN
CALSCALE:GREGORIAN
METHOD:PUBLISH
X-WR-CALNAME:ISPE BR
X-ORIGINAL-URL:https://ispe.org.br
X-WR-CALDESC:Events for ISPE BR
REFRESH-INTERVAL;VALUE=DURATION:PT1H
X-Robots-Tag:noindex
X-PUBLISHED-TTL:PT1H
BEGIN:VTIMEZONE
TZID:America/Sao_Paulo
BEGIN:STANDARD
TZOFFSETFROM:-0300
TZOFFSETTO:-0300
TZNAME:-03
DTSTART:20220101T000000
END:STANDARD
END:VTIMEZONE
BEGIN:VEVENT
DTSTART;TZID=America/Sao_Paulo:20220901T080000
DTEND;TZID=America/Sao_Paulo:20220902T120000
DTSTAMP:20260423T145047
CREATED:20220530T205452Z
LAST-MODIFIED:20220629T230019Z
UID:1130-1662019200-1662120000@ispe.org.br
SUMMARY:Treinamento Online: Análise de Riscos – Uso aplicado da Ferramenta FMEA
DESCRIPTION:Valores:  \nAntecipado até dia 29/07/2022 \nAssociado ISPE: R$ 350\,00 \nNão sócios: R$ 500\,00 \n  \nSem desconto após dia 29/07/2022 \nAssociado ISPE: R$ 450\,00 \nNão sócios: R$ 600\,00 \nEstudantes de Graduação (Sujeito à disponibilidade de vaga): R$ 171\,00 (Necessária documentação comprobatória) \nInspetores Órgãos Reguladores: Cortesia (Necessária documentação comprobatória) \n  \nConteúdo Programático: \nO treinamento trará abordagem teórica (Normativas nacionais e internacionais) e prática do uso do FMEA (Failure Mode and Effect Analysis) como ferramenta de Análise de Riscos e a sua importância na implementação da cultura da qualidade no cumprimento das Boas Práticas (BPx) e no Gerenciamento de Riscos da Qualidade. \nSerão exemplificados diferentes usos da ferramenta\, demonstrando a sua versatilidade junto ao segmento de ciências da vida (Life Science). \n\nIntrodução\nDefinição do Risco;\nHistórico;\nGestão de risco e o uso da Ferramenta FMEA;\nExigências normativas – Panorama Geral;\nDefinição dos critérios de pontuação (Qualitativo/Quantitativo);\nAvaliação (Severidade\, Ocorrência e Detecção);\nRégua de Pontuação;\nClasse do Risco e Prioridade do Risco;\nPlanilhas automatizadas para cálculo;\nComparativo da ferramenta FMEA com outras ferramentas de análise de risco;\nVantagens e desvantagens do uso da ferramenta;\nPrincipais erros no uso do FMEA;\nExemplos de aplicação;\nExercício de fixação;\nReferências BibliográficasIntegridade de Dados na Prática (Dia a Dia)\n\nObjetivos: \nSituar os participantes sobre a Análise de riscos e o uso dos conceitos da ferramenta FMEA (Failure Mode and Effect Analysis)\, bem como as principais aplicações junto ao segmento de Life Science (Ciências da vida). \nPúblico Alvo: \nSegmento de ciências da vida (Life Science) – Indústria Farmacêutica; Cosmética; Insumos farmacêuticos; Medical Device; Gases medicinais; Biotecnologia; Veterinária; Alimentícia\, etc. \nOrientador: \nSr. Diego.M.Kise (TELSTAR / AZBIL) \nFarmacêutico Generalista – Graduado pela UNICAMP (Universidade Estadual de Campinas): \nCargo Atual: Gerente de Projetos (AZBIL – TELSTAR). Professor docente de Pós-graduação do Instituto Racine (Disciplinas de Engenharia Farmacêutica e Auditoria). Coordenador de grupo Análise de riscos e PDE na prevenção de contaminação cruzada – Sindusfarma. \nPerfil:   Farmacêutico Generalista com atuação na área Industrial 10 anos de experiência (dos quais 8 anos no ramo de Consultoria) – Qualidade/Validação: Qualificação de Equipamentos e Utilidades\, Qualificação Térmica\, Validação de Sistemas Computadorizados\, Validação de Limpeza\, Validação de processos\, Revisão Periódica de Produtos (RPP); Elaboração de Procedimentos Operacionais Padrão (POP)\, protocolos de Qualificação/Validação; Implantação de Sistema da Qualidade; Investigação e Tratamento de Desvios; Controles de mudança; Gestão de Riscos e Realização de Auditorias. \nGestão de equipes e projetos a fim de atender as necessidades dos clientes com o foco na Qualidade e Resultados. Aplicação do conhecimento técnico na busca de melhorias de processo e otimização dos prazos. Trabalho no desenvolvimento de projetos de alta complexidade e multidisciplinares; Desenvolvedor de corpo técnico (Treinamento de equipe de consultores). \nEmpresa: AZBIL – TELSTAR é uma empresa internacional líder em serviços\, com capacidade de integrar conhecimento e tecnologia a fim de proporcionar soluções vantajosas e com alto valor agregado para nossos clientes na área de Ciências da Vida. \nAtividades: Gerenciamento de projetos. \nQualificação de Equipamentos; Utilidades e Validação de Sistemas Computadorizados: Atuação em diversas indústrias farmacêuticas/ cosméticas/ de biotecnologia/ veterinária/ insumos farmacêuticos/ gases medicinais/ dispositivos médicos\, etc. Gerenciamento de equipe para execução de atividades de elaboração e execução de protocolos de Qualificação de Projeto; Instalação; Operação e Desempenho. Realização de atividades nos setores de Manipulação\, envase\, embalagem\, laboratório (microbiológico e físico químico); Qualificação de Utilidades – Vapor puro\, água WFI\, água PW\, Nitrogênio\, Ar comprimido\, HVAC\, etc. Validação de Sistemas computadorizados/informatizados: ERP’s – Enterprise resource planning (SAP\, Protheus\, JD Edwards; Dynamics\, etc)\, Sistemas de gestão de documentação\, farmacovigilância\, calibração/manutenção\, desvios\, controle de mudanças; Validação de planilhas eletrônicas. Realização de atividades de Qualificação/Validação em todo o ciclo de vida de Validação (Elaboração de planos mestres de validação\, inventário de equipamentos e sistemas\, requerimentos do usuário; análise de riscos\, protocolos e relatórios de qualificação\, matriz de rastreabilidade). \nStartup de indústrias farmacêuticas – Gerenciamento de equipe para a Qualificação de equipamentos e Utilidades: Trabalho realizado ramo farmacêutico (atendendo as particularidades de biossegurança); indústria farmacêutica de injetáveis (Produção biológica e farmacêutica); Indústria de Cosmético (Expansão de área produtiva); Laboratório de Controle de Qualidade (Novas instalações de laboratório físico químico e microbiológico). \nValidação de Limpeza e Processo: Gerenciamento de projetos na área de Validação de limpeza e processo (Desenvolvimento e execução dos protocolos): Definição do produto pior caso – Matriz de limpeza; Tempo de sujo; Tempo de limpo. \nProcedimentos da Garantia da Qualidade: Revisão e implementação de procedimentos de Garantia da Qualidade (Qualificação/ Comportamento em área limpa/ Paramentação/ Controle de mudanças/ Gestão de riscos/ Investigação de desvios/ Auditorias interna e externa). \nInvestigação de Desvios: Implantação de Metodologia de Investigação de Desvios; e Ações corretivas e Preventivas (CAPA). Auxílio na investigação de desvios junto aos clientes – identificação de causa raiz e proposição de ações corretivas e preventivas. \nAuditor: Realização de auditorias internas (indústrias farmacêuticas) em diversos focos: Auditorias específicas de Qualificação/Validação de Sistemas computadorizados; Auditorias gerais de Qualidade. \nQualificação térmica: Gerenciamento de equipe em atividades de Qualificação térmica (Processo de esterilização/ Monitoramentos térmicos/ Estudos de sazonalidade – Almoxarifados/ Validação de transporte: Tipos modais de transporte). Atividades com diversos equipamentos térmicos (Autoclaves\, muflas\, estufas\, câmaras climáticas\, estufas de secagem\, banho maria\, refrigeradores\, câmaras frias\, tanques reatores; etc). \nProcesso asséptico – Media Fill: Consultoria no desenvolvimento do processo de simulação asséptica (Media Fill) – Desenvolvimento dos protocolos e execução. \nTreinamentos: Desenvolvimento do time de consultores nas áreas de atuação da empresa.
URL:https://ispe.org.br/evento/treinamento-online-analise-de-riscos-uso-aplicado-da-ferramenta-fmea/
LOCATION:ZOOM – Link será enviado posteriormente
END:VEVENT
BEGIN:VEVENT
DTSTART;TZID=America/Sao_Paulo:20220902T143000
DTEND;TZID=America/Sao_Paulo:20220902T163000
DTSTAMP:20260423T145047
CREATED:20220803T215140Z
LAST-MODIFIED:20220803T215140Z
UID:1259-1662129000-1662136200@ispe.org.br
SUMMARY:Webinar Gratuito: “Ampliando a consciência e o coração sobre a Doença de Alzheimer”
DESCRIPTION:Palestrante: \nElizabeth Piovezan \nPedagoga \, Especialista em Neuropsicologia\, Especialista em Gerontologia\,  Fundadora e Diretora Presidente do Instituto Alzheimer Brasil\,- IAB – Consultora em assuntos sobre demência.
URL:https://ispe.org.br/evento/webinar-gratuito-ampliando-a-consciencia-e-o-coracao-sobre-a-doenca-de-alzheimer/
ATTACH;FMTTYPE=image/jpeg:https://ispe.org.br/wp-content/uploads/2022/08/comite-woman-in-pharma-wip.jpg
END:VEVENT
END:VCALENDAR