BEGIN:VCALENDAR
VERSION:2.0
PRODID:-//ISPE BR - ECPv5.12.2//NONSGML v1.0//EN
CALSCALE:GREGORIAN
METHOD:PUBLISH
X-WR-CALNAME:ISPE BR
X-ORIGINAL-URL:https://ispe.org.br
X-WR-CALDESC:Events for ISPE BR
REFRESH-INTERVAL;VALUE=DURATION:PT1H
X-Robots-Tag:noindex
X-PUBLISHED-TTL:PT1H
BEGIN:VTIMEZONE
TZID:America/Sao_Paulo
BEGIN:STANDARD
TZOFFSETFROM:-0300
TZOFFSETTO:-0300
TZNAME:-03
DTSTART:20220101T000000
END:STANDARD
END:VTIMEZONE
BEGIN:VEVENT
DTSTART;TZID=America/Sao_Paulo:20220530T080000
DTEND;TZID=America/Sao_Paulo:20220531T160000
DTSTAMP:20260423T195048
CREATED:20220216T203834Z
LAST-MODIFIED:20220321T122325Z
UID:912-1653897600-1654012800@ispe.org.br
SUMMARY:Treinamento Online:  Comissionamento e Qualificação
DESCRIPTION:Valores:  \nAntecipado até dia 25/04/2022 \nAssociado ISPE: 700\,00 \nNão sócios: R$ 1.150\,00 \n  \nSem desconto após 25/04/2022 \nAssociado ISPE: 760\,00 \nNão sócios: R$ 1.255\,00 \nEstudantes de Graduação (Sujeito à disponibilidade de vaga): R$ 330\,00 (Necessária documentação comprobatória) \nInspetores Órgãos Reguladores: Cortesia (Necessária documentação comprobatória) \n  \nConteúdo: \nAtravés de um guia que aborda sólidos conceitos de Boas Práticas de Engenharia e Boas Práticas de Fabricação\, aliada ao conceito de comissionamento + qualificação este treinamento inclui: \n* Bases normativas e conceituais \n* Ciclo de Vida de Validação somando comissionamento e qualificação \n* Manutenção do estado validado \nObjetivos: \nEste treinamento abordará conceitos de como aplicar comissionamento e qualificação em um único ciclo de vida de validação. \nPúblico Alvo: \nProfissionais das áreas de engenharia\, prestadores de serviço\, consultores\, analista de validação e garantia da qualidade. \nOrientadora \nAna Marie Kaneto \nEngenheira Elétrica e Tecnóloga em Construção Civil\, atua na indústria farmacêutica há 15 anos\, com experiência em comissionamento e qualificação de equipamentos\, sistemas de utilidades\, sistemas de automação\, validação de sistemas computadorizados\, qualificação de projetos.Nos últimos sete anos coordena\, gerencia projetos e ministra treinamentos e palestras de Boas Práticas de Documentação\, Qualificação de Equipamentos\, Validação de Sistemas de Computadorizados para Automação.Faz parte dos CoPs de Comissionamento e Qualificação\, GAMP.  \nTesoureira ISPE Brasil – 2019/2020 e Reeleita para o Biênio 2021/2022. \nDiretora Vice-Presidente da ISPE Brasil para 2022. \n 
URL:https://ispe.org.br/evento/treinamento-online-comissionamento-e-qualificacao/
LOCATION:Auditório da GS1 Brasil – Associação Brasileira de Automação\, localizado na Rua Henrique Monteiro\, 79 – Pinheiros – São Paulo – SP
END:VEVENT
END:VCALENDAR